BEGIN:VCALENDAR
VERSION:2.0
PRODID:-// - ECPv6.15.3//NONSGML v1.0//EN
CALSCALE:GREGORIAN
METHOD:PUBLISH
X-ORIGINAL-URL:http://www.canoekayak-lemans.net
X-WR-CALDESC:Évènements pour 
REFRESH-INTERVAL;VALUE=DURATION:PT1H
X-Robots-Tag:noindex
X-PUBLISHED-TTL:PT1H
BEGIN:VTIMEZONE
TZID:Europe/Paris
BEGIN:DAYLIGHT
TZOFFSETFROM:+0100
TZOFFSETTO:+0200
TZNAME:CEST
DTSTART:20240331T010000
END:DAYLIGHT
BEGIN:STANDARD
TZOFFSETFROM:+0200
TZOFFSETTO:+0100
TZNAME:CET
DTSTART:20241027T010000
END:STANDARD
BEGIN:DAYLIGHT
TZOFFSETFROM:+0100
TZOFFSETTO:+0200
TZNAME:CEST
DTSTART:20250330T010000
END:DAYLIGHT
BEGIN:STANDARD
TZOFFSETFROM:+0200
TZOFFSETTO:+0100
TZNAME:CET
DTSTART:20251026T010000
END:STANDARD
END:VTIMEZONE
BEGIN:VEVENT
DTSTART;VALUE=DATE:20250712
DTEND;VALUE=DATE:20250715
DTSTAMP:20260421T131109
CREATED:20250112T154711Z
LAST-MODIFIED:20250113T094446Z
UID:1032-1752278400-1752537599@www.canoekayak-lemans.net
SUMMARY:Sortie loisir
DESCRIPTION:12/13/14 juillet Week-end mer \nPour toutes précisions heures de départ lieux de navigation voir directement avec Murielle \nsamuel.turenne@sfr.fr
URL:http://www.canoekayak-lemans.net/index.php/event/sortie-loisir-5/
CATEGORIES:Sorties loisir
END:VEVENT
BEGIN:VEVENT
DTSTART;VALUE=DATE:20250628
DTEND;VALUE=DATE:20250629
DTSTAMP:20260421T131109
CREATED:20250310T092322Z
LAST-MODIFIED:20250310T092322Z
UID:1083-1751068800-1751155199@www.canoekayak-lemans.net
SUMMARY:Marie Marving
DESCRIPTION:Le 28 juin 2025\, la ville du Mans organise au Stade Marie Marving\, un RDV sportif où tous les clubs seront présents\, pour présenter leur association et leur discipline.\nNous serons présents à cette journée\, de 9h à 18h\, nous aurons besoin de bénévoles pour assurer la permanence au stand\, répondre aux questions des gens\, distribuer des flyers\, commenter des vidéos qui passeront sur un ordi\, voila en gros ce que nous aurons comme besoins.\nMerci de votre présence.\nD.F
URL:http://www.canoekayak-lemans.net/index.php/event/marie-marving/
CATEGORIES:Manifestation
END:VEVENT
BEGIN:VEVENT
DTSTART;VALUE=DATE:20250607
DTEND;VALUE=DATE:20250610
DTSTAMP:20260421T131109
CREATED:20240829T152717Z
LAST-MODIFIED:20240829T152717Z
UID:937-1749254400-1749513599@www.canoekayak-lemans.net
SUMMARY:Soeix
DESCRIPTION:
URL:http://www.canoekayak-lemans.net/index.php/event/soeix/
CATEGORIES:Compétitions
END:VEVENT
BEGIN:VEVENT
DTSTART;VALUE=DATE:20250529
DTEND;VALUE=DATE:20250602
DTSTAMP:20260421T131109
CREATED:20250112T154602Z
LAST-MODIFIED:20250113T094529Z
UID:1030-1748476800-1748822399@www.canoekayak-lemans.net
SUMMARY:Sortie loisir
DESCRIPTION:Pont de l’ascension du 29 mai au 1 juin la Leyre rivière avec bivouac \nhttps://www.eauxvives.org/fr/rivieres/voir/leyre \nPour toutes précisions heures de départ lieux de navigation voir directement avec Murielle \nsamuel.turenne@sfr.fr
URL:http://www.canoekayak-lemans.net/index.php/event/sortie-loisir-4/
CATEGORIES:Sorties loisir
END:VEVENT
BEGIN:VEVENT
DTSTART;TZID=Europe/Paris:20250517T120000
DTEND;TZID=Europe/Paris:20250517T170000
DTSTAMP:20260421T131109
CREATED:20240829T152238Z
LAST-MODIFIED:20240829T152238Z
UID:927-1747483200-1747501200@www.canoekayak-lemans.net
SUMMARY:Sortie extérieure
DESCRIPTION:Voici le planning des sorties extérieure au club 2024-2025: le samedi de 12h à 17h (retour au club). Les dates ne bougerons pas\, cela laisse à tout le monde le soin de les noter et de ne pas être pris au dépourvu. Les lieux de pratiques seront décidé en fonction des niveaux d’eau et de pratique des participants. Ex Montfort le Gesnois\, St Pavace\, La Beunèche ….\nDidier\n12 octobre\n7 décembre\n14 décembre ST Léonard s’adresse à un public ayant un niveau de pratique régulière.\n25 janvier\n8 mars\n20 avril\n17 mai
URL:http://www.canoekayak-lemans.net/index.php/event/sortie-exterieure-15/
CATEGORIES:Sortie exterieure
END:VEVENT
BEGIN:VEVENT
DTSTART;TZID=Europe/Paris:20250426T120000
DTEND;TZID=Europe/Paris:20250426T170000
DTSTAMP:20260421T131109
CREATED:20240829T152157Z
LAST-MODIFIED:20240829T152157Z
UID:925-1745668800-1745686800@www.canoekayak-lemans.net
SUMMARY:Sortie extérieure
DESCRIPTION:Voici le planning des sorties extérieure au club 2024-2025: le samedi de 12h à 17h (retour au club). Les dates ne bougerons pas\, cela laisse à tout le monde le soin de les noter et de ne pas être pris au dépourvu. Les lieux de pratiques seront décidé en fonction des niveaux d’eau et de pratique des participants. Ex Montfort le Gesnois\, St Pavace\, La Beunèche ….\nDidier\n12 octobre\n7 décembre\n14 décembre ST Léonard s’adresse à un public ayant un niveau de pratique régulière.\n25 janvier\n8 mars\n20 avril\n17 mai
URL:http://www.canoekayak-lemans.net/index.php/event/sortie-exterieure-14/
CATEGORIES:Sortie exterieure
END:VEVENT
BEGIN:VEVENT
DTSTART;VALUE=DATE:20250419
DTEND;VALUE=DATE:20250422
DTSTAMP:20260421T131109
CREATED:20240829T152622Z
LAST-MODIFIED:20240829T152622Z
UID:935-1745020800-1745279999@www.canoekayak-lemans.net
SUMMARY:Argentière
DESCRIPTION:
URL:http://www.canoekayak-lemans.net/index.php/event/argentiere/
END:VEVENT
BEGIN:VEVENT
DTSTART;VALUE=DATE:20250412
DTEND;VALUE=DATE:20250414
DTSTAMP:20260421T131109
CREATED:20250112T154422Z
LAST-MODIFIED:20250113T094910Z
UID:1028-1744416000-1744588799@www.canoekayak-lemans.net
SUMMARY:Sortie loisir
DESCRIPTION:Week-end 12 et 13 avril suisse Normande Clessy \n \nPour toutes précisions heures de départ lieux de navigation vois directement avec Murielle \nsamuel.turenne@sfr.fr \n 
URL:http://www.canoekayak-lemans.net/index.php/event/sortie-loisir-3/
CATEGORIES:Sorties loisir
END:VEVENT
BEGIN:VEVENT
DTSTART;VALUE=DATE:20250322
DTEND;VALUE=DATE:20250324
DTSTAMP:20260421T131109
CREATED:20240829T152521Z
LAST-MODIFIED:20240829T152521Z
UID:933-1742601600-1742774399@www.canoekayak-lemans.net
SUMMARY:Lathus
DESCRIPTION:
URL:http://www.canoekayak-lemans.net/index.php/event/lathus/
CATEGORIES:Compétitions
END:VEVENT
BEGIN:VEVENT
DTSTART;VALUE=DATE:20250315
DTEND;VALUE=DATE:20250317
DTSTAMP:20260421T131109
CREATED:20250112T154238Z
LAST-MODIFIED:20250113T095020Z
UID:1026-1741996800-1742169599@www.canoekayak-lemans.net
SUMMARY:Sortie loisir
DESCRIPTION:Week-end 15 et 16 mars: Lathus ou ? \nhttps://www.eauxvives.org/fr/slalom/voir/lathus \nPour toutes précisions heures de départ lieux de navigation voir directement avec Murielle \nsamuel.turenne@sfr.fr
URL:http://www.canoekayak-lemans.net/index.php/event/sortie-loisir-2/
CATEGORIES:Sorties loisir
END:VEVENT
BEGIN:VEVENT
DTSTART;TZID=Europe/Paris:20250308T120000
DTEND;TZID=Europe/Paris:20250308T170000
DTSTAMP:20260421T131109
CREATED:20240829T152114Z
LAST-MODIFIED:20240829T152114Z
UID:923-1741435200-1741453200@www.canoekayak-lemans.net
SUMMARY:Sortie extérieure
DESCRIPTION:Voici le planning des sorties extérieure au club 2024-2025: le samedi de 12h à 17h (retour au club). Les dates ne bougerons pas\, cela laisse à tout le monde le soin de les noter et de ne pas être pris au dépourvu. Les lieux de pratiques seront décidé en fonction des niveaux d’eau et de pratique des participants. Ex Montfort le Gesnois\, St Pavace\, La Beunèche ….\nDidier\n12 octobre\n7 décembre\n14 décembre ST Léonard s’adresse à un public ayant un niveau de pratique régulière.\n25 janvier\n8 mars\n20 avril\n17 mai
URL:http://www.canoekayak-lemans.net/index.php/event/sortie-exterieure-13/
CATEGORIES:Sortie exterieure
END:VEVENT
BEGIN:VEVENT
DTSTART;VALUE=DATE:20250222
DTEND;VALUE=DATE:20250224
DTSTAMP:20260421T131109
CREATED:20240829T152431Z
LAST-MODIFIED:20240829T152431Z
UID:931-1740182400-1740355199@www.canoekayak-lemans.net
SUMMARY:Scorf
DESCRIPTION:
URL:http://www.canoekayak-lemans.net/index.php/event/scorf/
CATEGORIES:Compétitions
END:VEVENT
BEGIN:VEVENT
DTSTART;TZID=Europe/Paris:20250125T120000
DTEND;TZID=Europe/Paris:20250125T170000
DTSTAMP:20260421T131109
CREATED:20240829T152026Z
LAST-MODIFIED:20240829T152026Z
UID:921-1737806400-1737824400@www.canoekayak-lemans.net
SUMMARY:Sortie extérieure
DESCRIPTION:Voici le planning des sorties extérieure au club 2024-2025: le samedi de 12h à 17h (retour au club). Les dates ne bougerons pas\, cela laisse à tout le monde le soin de les noter et de ne pas être pris au dépourvu. Les lieux de pratiques seront décidé en fonction des niveaux d’eau et de pratique des participants. Ex Montfort le Gesnois\, St Pavace\, La Beunèche ….\nDidier\n12 octobre\n7 décembre\n14 décembre ST Léonard s’adresse à un public ayant un niveau de pratique régulière.\n25 janvier\n8 mars\n20 avril\n17 mai
URL:http://www.canoekayak-lemans.net/index.php/event/sortie-exterieure-12/
CATEGORIES:Sortie exterieure
END:VEVENT
BEGIN:VEVENT
DTSTART;VALUE=DATE:20250119
DTEND;VALUE=DATE:20250120
DTSTAMP:20260421T131109
CREATED:20250112T153823Z
LAST-MODIFIED:20250113T095405Z
UID:1023-1737244800-1737331199@www.canoekayak-lemans.net
SUMMARY:Sortie Loisir
DESCRIPTION:Dimanche 19 janvier (lieu indétreminé) RDV ? \nWeek-end 15 et 16 mars: Lathus ou ? \nhttps://www.eauxvives.org/fr/slalom/voir/lathus \nWeek-end 12 et 13 avril suisse Normande Clessy \nPont de l’ascension du 29 mai au 1 juin la Leyre rivière avec bivouac \nhttps://www.eauxvives.org/fr/rivieres/voir/leyre \n12/13/14 juillet Week-end mer \nPour toutes précisions heures de départ lieux de navigation voir directement avec Murielle \nsamuel.turenne@sfr.fr
URL:http://www.canoekayak-lemans.net/index.php/event/sortie-loisir/
CATEGORIES:Sortie exterieure
END:VEVENT
BEGIN:VEVENT
DTSTART;TZID=Europe/Paris:20241214T120000
DTEND;TZID=Europe/Paris:20241214T170000
DTSTAMP:20260421T131109
CREATED:20240829T151937Z
LAST-MODIFIED:20240829T151937Z
UID:919-1734177600-1734195600@www.canoekayak-lemans.net
SUMMARY:Sortie extérieure
DESCRIPTION:Voici le planning des sorties extérieure au club 2024-2025: le samedi de 12h à 17h (retour au club). Les dates ne bougerons pas\, cela laisse à tout le monde le soin de les noter et de ne pas être pris au dépourvu. Les lieux de pratiques seront décidé en fonction des niveaux d’eau et de pratique des participants. Ex Montfort le Gesnois\, St Pavace\, La Beunèche ….\nDidier\n12 octobre\n7 décembre\n14 décembre ST Léonard s’adresse à un public ayant un niveau de pratique régulière.\n25 janvier\n8 mars\n20 avril\n17 mai
URL:http://www.canoekayak-lemans.net/index.php/event/sortie-exterieure-11/
CATEGORIES:Sortie exterieure
END:VEVENT
BEGIN:VEVENT
DTSTART;VALUE=DATE:20241214
DTEND;VALUE=DATE:20241216
DTSTAMP:20260421T131109
CREATED:20240829T152333Z
LAST-MODIFIED:20240829T152333Z
UID:929-1734134400-1734307199@www.canoekayak-lemans.net
SUMMARY:St Léonard
DESCRIPTION:
URL:http://www.canoekayak-lemans.net/index.php/event/st-leonard-2/
CATEGORIES:Compétitions
END:VEVENT
BEGIN:VEVENT
DTSTART;TZID=Europe/Paris:20241207T120000
DTEND;TZID=Europe/Paris:20241207T170000
DTSTAMP:20260421T131109
CREATED:20240829T151759Z
LAST-MODIFIED:20240829T151759Z
UID:917-1733572800-1733590800@www.canoekayak-lemans.net
SUMMARY:Sortie extérieure
DESCRIPTION:Voici le planning des sorties extérieure au club 2024-2025: le samedi de 12h à 17h (retour au club). Les dates ne bougerons pas\, cela laisse à tout le monde le soin de les noter et de ne pas être pris au dépourvu. Les lieux de pratiques seront décidé en fonction des niveaux d’eau et de pratique des participants. Ex Montfort le Gesnois\, St Pavace\, La Beunèche ….\nDidier\n12 octobre\n7 décembre\n14 décembre ST Léonard s’adresse à un public ayant un niveau de pratique régulière.\n25 janvier\n8 mars\n20 avril\n17 mai
URL:http://www.canoekayak-lemans.net/index.php/event/sortie-exterieure-10/
CATEGORIES:Sortie exterieure
END:VEVENT
BEGIN:VEVENT
DTSTART;TZID=Europe/Paris:20241012T120000
DTEND;TZID=Europe/Paris:20241012T170000
DTSTAMP:20260421T131109
CREATED:20240829T151631Z
LAST-MODIFIED:20240829T151631Z
UID:915-1728734400-1728752400@www.canoekayak-lemans.net
SUMMARY:Sortie extérieure
DESCRIPTION:Voici le planning des sorties extérieure au club 2024-2025: le samedi de 12h à 17h (retour au club). Les dates ne bougerons pas\, cela laisse à tout le monde le soin de les noter et de ne pas être pris au dépourvu. Les lieux de pratiques seront décidé en fonction des niveaux d’eau et de pratique des participants. Ex Montfort le Gesnois\, St Pavace\, La Beunèche ….\nDidier\n12 octobre\n7 décembre\n14 décembre ST Léonard s’adresse à un public ayant un niveau de pratique régulière.\n25 janvier\n8 mars\n20 avril\n17 mai
URL:http://www.canoekayak-lemans.net/index.php/event/sortie-exterieure-4/
CATEGORIES:Sortie exterieure
END:VEVENT
BEGIN:VEVENT
DTSTART;VALUE=DATE:20240907
DTEND;VALUE=DATE:20240908
DTSTAMP:20260421T131109
CREATED:20240829T153111Z
LAST-MODIFIED:20240829T153111Z
UID:939-1725667200-1725753599@www.canoekayak-lemans.net
SUMMARY:Iléo Montesquieu
DESCRIPTION:
URL:http://www.canoekayak-lemans.net/index.php/event/ileo-montesquieu/
CATEGORIES:Manifestation
END:VEVENT
BEGIN:VEVENT
DTSTART;TZID=Europe/Paris:20240622T080000
DTEND;TZID=Europe/Paris:20240622T170000
DTSTAMP:20260421T131109
CREATED:20230705T081347Z
LAST-MODIFIED:20230705T081347Z
UID:589-1719043200-1719075600@www.canoekayak-lemans.net
SUMMARY:Ileo canoe 2024
DESCRIPTION:besoin de bénévoles
URL:http://www.canoekayak-lemans.net/index.php/event/ileo-canoe-2024/
CATEGORIES:Manifestation
END:VEVENT
BEGIN:VEVENT
DTSTART;VALUE=DATE:20240615
DTEND;VALUE=DATE:20240616
DTSTAMP:20260421T131109
CREATED:20230918T144836Z
LAST-MODIFIED:20230918T144836Z
UID:644-1718409600-1718495999@www.canoekayak-lemans.net
SUMMARY:Sortie exterieure
DESCRIPTION:
URL:http://www.canoekayak-lemans.net/index.php/event/sortie-exterieure-9/
CATEGORIES:Sortie exterieure
END:VEVENT
BEGIN:VEVENT
DTSTART;VALUE=DATE:20240608
DTEND;VALUE=DATE:20240610
DTSTAMP:20260421T131109
CREATED:20230918T135658Z
LAST-MODIFIED:20230918T135658Z
UID:622-1717804800-1717977599@www.canoekayak-lemans.net
SUMMARY:Finale Régionale  CHOLET
DESCRIPTION:8/9 juin
URL:http://www.canoekayak-lemans.net/index.php/event/finale-regionale-cholet/
END:VEVENT
BEGIN:VEVENT
DTSTART;VALUE=DATE:20240601
DTEND;VALUE=DATE:20240602
DTSTAMP:20260421T131109
CREATED:20230918T135132Z
LAST-MODIFIED:20230918T135315Z
UID:620-1717200000-1717286399@www.canoekayak-lemans.net
SUMMARY:Polo (finale dep. 72)    La Ferté
DESCRIPTION:1 er juin
URL:http://www.canoekayak-lemans.net/index.php/event/polo-finale-dep-72-la-ferte/
CATEGORIES:Ecole de pagaie
END:VEVENT
BEGIN:VEVENT
DTSTART;VALUE=DATE:20240525
DTEND;VALUE=DATE:20240526
DTSTAMP:20260421T131109
CREATED:20230918T135043Z
LAST-MODIFIED:20230918T135335Z
UID:618-1716595200-1716681599@www.canoekayak-lemans.net
SUMMARY:Course en Ligne ? Laval
DESCRIPTION:25 Mai
URL:http://www.canoekayak-lemans.net/index.php/event/course-en-ligne-laval/
CATEGORIES:Ecole de pagaie
END:VEVENT
BEGIN:VEVENT
DTSTART;TZID=Europe/Paris:20240518T080000
DTEND;TZID=Europe/Paris:20240520T170000
DTSTAMP:20260421T131109
CREATED:20230705T080931Z
LAST-MODIFIED:20230705T081000Z
UID:586-1716019200-1716224400@www.canoekayak-lemans.net
SUMMARY:Amboise 2024
DESCRIPTION:Navigation sur le site d’Amboise ouvert à tous \nSlalom et descente sur la Loire dans des veines d’eau \nNavigation en soirée sur le bassin de Tours \nhébergement sur le site de l’ile d’OR \nvidéo du site \n \n  \n 
URL:http://www.canoekayak-lemans.net/index.php/event/amboise-2024/
CATEGORIES:Sorties loisir
END:VEVENT
BEGIN:VEVENT
DTSTART;VALUE=DATE:20240413
DTEND;VALUE=DATE:20240414
DTSTAMP:20260421T131109
CREATED:20230918T144808Z
LAST-MODIFIED:20230918T144808Z
UID:642-1712966400-1713052799@www.canoekayak-lemans.net
SUMMARY:Sortie exterieure
DESCRIPTION:
URL:http://www.canoekayak-lemans.net/index.php/event/sortie-exterieure-8/
END:VEVENT
BEGIN:VEVENT
DTSTART;VALUE=DATE:20240406
DTEND;VALUE=DATE:20240407
DTSTAMP:20260421T131109
CREATED:20230918T134958Z
LAST-MODIFIED:20230918T135355Z
UID:616-1712361600-1712447999@www.canoekayak-lemans.net
SUMMARY:Slalom EV  Sablé
DESCRIPTION:
URL:http://www.canoekayak-lemans.net/index.php/event/slalom-ev-sable/
CATEGORIES:Ecole de pagaie
END:VEVENT
BEGIN:VEVENT
DTSTART;TZID=Europe/Paris:20240323T090000
DTEND;TZID=Europe/Paris:20240323T123000
DTSTAMP:20260421T131109
CREATED:20230109T132008Z
LAST-MODIFIED:20230918T144209Z
UID:380-1711184400-1711197000@www.canoekayak-lemans.net
SUMMARY:Agrement parents
DESCRIPTION:
URL:http://www.canoekayak-lemans.net/index.php/event/sortie-a-preciser-3/
CATEGORIES:Administratif
END:VEVENT
BEGIN:VEVENT
DTSTART;VALUE=DATE:20240323
DTEND;VALUE=DATE:20240324
DTSTAMP:20260421T131109
CREATED:20230918T134917Z
LAST-MODIFIED:20230918T135416Z
UID:614-1711152000-1711238399@www.canoekayak-lemans.net
SUMMARY:Descente ou Boarder Cross   Moulins
DESCRIPTION:23 Mars
URL:http://www.canoekayak-lemans.net/index.php/event/descente-ou-boarder-cross-moulins/
CATEGORIES:Ecole de pagaie
END:VEVENT
BEGIN:VEVENT
DTSTART;VALUE=DATE:20240316
DTEND;VALUE=DATE:20240317
DTSTAMP:20260421T131109
CREATED:20230918T144743Z
LAST-MODIFIED:20230918T144743Z
UID:640-1710547200-1710633599@www.canoekayak-lemans.net
SUMMARY:Sortie exterieure
DESCRIPTION:
URL:http://www.canoekayak-lemans.net/index.php/event/sortie-exterieure-7/
CATEGORIES:Sortie exterieure
END:VEVENT
END:VCALENDAR